BEGIN:VCALENDAR
VERSION:2.0
PRODID:-//Carl Bosch Museum - ECPv6.15.20//NONSGML v1.0//EN
CALSCALE:GREGORIAN
METHOD:PUBLISH
X-WR-CALNAME:Carl Bosch Museum
X-ORIGINAL-URL:https://carl-bosch-museum.de
X-WR-CALDESC:Veranstaltungen für Carl Bosch Museum
REFRESH-INTERVAL;VALUE=DURATION:PT1H
X-Robots-Tag:noindex
X-PUBLISHED-TTL:PT1H
BEGIN:VTIMEZONE
TZID:Europe/Berlin
BEGIN:DAYLIGHT
TZOFFSETFROM:+0100
TZOFFSETTO:+0200
TZNAME:CEST
DTSTART:20250330T010000
END:DAYLIGHT
BEGIN:STANDARD
TZOFFSETFROM:+0200
TZOFFSETTO:+0100
TZNAME:CET
DTSTART:20251026T010000
END:STANDARD
BEGIN:DAYLIGHT
TZOFFSETFROM:+0100
TZOFFSETTO:+0200
TZNAME:CEST
DTSTART:20260329T010000
END:DAYLIGHT
BEGIN:STANDARD
TZOFFSETFROM:+0200
TZOFFSETTO:+0100
TZNAME:CET
DTSTART:20261025T010000
END:STANDARD
BEGIN:DAYLIGHT
TZOFFSETFROM:+0100
TZOFFSETTO:+0200
TZNAME:CEST
DTSTART:20270328T010000
END:DAYLIGHT
BEGIN:STANDARD
TZOFFSETFROM:+0200
TZOFFSETTO:+0100
TZNAME:CET
DTSTART:20271031T010000
END:STANDARD
END:VTIMEZONE
BEGIN:VEVENT
DTSTART;TZID=Europe/Berlin:20260426T100000
DTEND;TZID=Europe/Berlin:20260426T170000
DTSTAMP:20260425T144618
CREATED:20260425T081617Z
LAST-MODIFIED:20260425T085620Z
UID:4733-1777197600-1777222800@carl-bosch-museum.de
SUMMARY:Halbmarathon - eingeschränkte Zufahrt am Sonntag!
DESCRIPTION:Bitte beachten Sie: Aufgrund des Halbmarathons am Sonntag\, den 26. April sind ab 9.30 Uhr einige Zufahrtsstraßen gesperrt. \nDer Schlosswolfsbrunnenweg ist über die gesamte Länge von 09.30 bis 12.40 Uhr für den gesamten Verkehr gesperrt\, dies beinhaltet auch die Zufahrt über die anliegenden Straßen. Zu Fuß ist das Carl Bosch Museum zu erreichen. \n 
URL:https://carl-bosch-museum.de/event/halbmarathon-eingeschraenkte-zufahrt-am-sonntag/
CATEGORIES:Sonstiges
ATTACH;FMTTYPE=image/jpeg:https://carl-bosch-museum.de/wp-content/uploads/2025/05/Carl-Bosch-Museum_015.jpg
END:VEVENT
END:VCALENDAR